BEGIN:VCALENDAR
VERSION:2.0
PRODID:-//hacksw/handcal//NONSGML v1.0//EN
CALSCALE:GREGORIAN
BEGIN:VTIMEZONE
TZID:W. Europe Standard Time
BEGIN:STANDARD
DTSTART:16010101T030000
TZOFFSETFROM:+0200
TZOFFSETTO:+0100
RRULE:FREQ=YEARLY;INTERVAL=1;BYDAY=-1SU;BYMONTH=10
END:STANDARD
BEGIN:DAYLIGHT
DTSTART:16010101T020000
TZOFFSETFROM:+0100
TZOFFSETTO:+0200
RRULE:FREQ=YEARLY;INTERVAL=1;BYDAY=-1SU;BYMONTH=3
END:DAYLIGHT
END:VTIMEZONE
BEGIN:VEVENT
DTEND;TZID=W. Europe Standard Time:20181120T133000
UID:69e75a4d2c12a
DTSTAMP:20260421T110653Z
LOCATION:Chalmers Teknikpark\, Sven Hultins gata 9
DESCRIPTION:Träffa forskarna som skapat ett användarvänligt VR-gränssni
 tt där yrkesarbetare och arbetsledare själva fått skapa sina egna pro
 duktionsanpassade vyer genom att måttsätta och ta fram information från
  BIM-modellen. Dessa vyer kan sedan användas som ett komplement till – 
 eller helt ersätta – ritningar under arbetsberedning\, planering och ut
 förande av arbetet.
 
URL;VALUE=URI:https://www.cmb-chalmers.se/aktiviteter/vr-modell-ersatter-ri
 tning-pa-bygget/
SUMMARY:VR-modell ersätter ritning på bygget
DTSTART;TZID=W. Europe Standard Time:20181120T120000
END:VEVENT
END:VCALENDAR
