BEGIN:VCALENDAR
VERSION:2.0
PRODID:-//hacksw/handcal//NONSGML v1.0//EN
CALSCALE:GREGORIAN
BEGIN:VTIMEZONE
TZID:W. Europe Standard Time
BEGIN:STANDARD
DTSTART:16010101T030000
TZOFFSETFROM:+0200
TZOFFSETTO:+0100
RRULE:FREQ=YEARLY;INTERVAL=1;BYDAY=-1SU;BYMONTH=10
END:STANDARD
BEGIN:DAYLIGHT
DTSTART:16010101T020000
TZOFFSETFROM:+0100
TZOFFSETTO:+0200
RRULE:FREQ=YEARLY;INTERVAL=1;BYDAY=-1SU;BYMONTH=3
END:DAYLIGHT
END:VTIMEZONE
BEGIN:VEVENT
DTEND;TZID=W. Europe Standard Time:20200218T133000
UID:69e7593568312
DTSTAMP:20260421T110213Z
LOCATION:Chalmers Teknikpark\, Sven Hultins gata 9
DESCRIPTION:Byggbranschen har under lång tid haft svag produktivitetsutvec
 kling\, problem med kvaliteten i leveransen och brister i effektiviteten. 
 Hur vänder vi trenden? Mikael Anjou\, tidigare vice koncernchef i fastig
 hets-\, bygg- och projektutvecklingskoncernen Einar Mattsson\, ger sitt pe
 rspektiv på branschen med utgångspunkt från sin bok ”Den ineffektiva 
 byggbranschen – en förändringsagenda”.
 
URL;VALUE=URI:https://www.cmb-chalmers.se/aktiviteter/hur-gor-vi-byggbransc
 hen-mer-effektiv/
SUMMARY:Hur gör vi byggbranschen mer effektiv?
DTSTART;TZID=W. Europe Standard Time:20200218T120000
END:VEVENT
END:VCALENDAR
