BEGIN:VCALENDAR
VERSION:2.0
PRODID:-//hacksw/handcal//NONSGML v1.0//EN
CALSCALE:GREGORIAN
BEGIN:VTIMEZONE
TZID:W. Europe Standard Time
BEGIN:STANDARD
DTSTART:16010101T030000
TZOFFSETFROM:+0200
TZOFFSETTO:+0100
RRULE:FREQ=YEARLY;INTERVAL=1;BYDAY=-1SU;BYMONTH=10
END:STANDARD
BEGIN:DAYLIGHT
DTSTART:16010101T020000
TZOFFSETFROM:+0100
TZOFFSETTO:+0200
RRULE:FREQ=YEARLY;INTERVAL=1;BYDAY=-1SU;BYMONTH=3
END:DAYLIGHT
END:VTIMEZONE
BEGIN:VEVENT
DTEND;TZID=W. Europe Standard Time:20201020T130000
UID:69ea6b4eac797
DTSTAMP:20260423T185614Z
LOCATION:Digitalt seminarium via Zoom. Länk skickas ut i bekräftelse samt dagen före seminariet.
DESCRIPTION:Att bygga ett helt nytt samhälle erbjuder unika möjligheter a
 tt använda den senaste tekniken med hållbarhet och långsiktighet i foku
 s\, men det innebär också utmaningar som vi kommer att få höra mer om 
 ifrån Maria Ådahl\, vd för Landvetter Södra Utveckling AB och Amanda 
 von Matern\, kommunikations- och marknadsansvarig.
 
URL;VALUE=URI:https://www.cmb-chalmers.se/aktiviteter/hur-bygger-man-en-ny-
 stad/
SUMMARY:Hur bygger man en helt ny stad?
DTSTART;TZID=W. Europe Standard Time:20201020T120000
END:VEVENT
END:VCALENDAR
