BEGIN:VCALENDAR
VERSION:2.0
PRODID:-//hacksw/handcal//NONSGML v1.0//EN
CALSCALE:GREGORIAN
BEGIN:VTIMEZONE
TZID:W. Europe Standard Time
BEGIN:STANDARD
DTSTART:16010101T030000
TZOFFSETFROM:+0200
TZOFFSETTO:+0100
RRULE:FREQ=YEARLY;INTERVAL=1;BYDAY=-1SU;BYMONTH=10
END:STANDARD
BEGIN:DAYLIGHT
DTSTART:16010101T020000
TZOFFSETFROM:+0100
TZOFFSETTO:+0200
RRULE:FREQ=YEARLY;INTERVAL=1;BYDAY=-1SU;BYMONTH=3
END:DAYLIGHT
END:VTIMEZONE
BEGIN:VEVENT
DTEND;TZID=W. Europe Standard Time:20211111T130000
UID:69e75b813fd55
DTSTAMP:20260421T111201Z
LOCATION:A Working Lab\, Sven Hultins plats 5 i Göteborg
DESCRIPTION:Lyssna till Camilla Näslund\, projektledare Social Hållbarhet
 \, Stena Fastigheter Göteborg AB\, och Thomas Samuelsson \, distriktschef
  Familjebostäder\,  Pontus Berger\, Talent Attraction and Social Inclusi
 on\, berätta om detta sätt att samarbeta för att utveckla nya arbetssä
 tt att stödja socialt hållbar stadsutveckling i ett särskilt utsatt omr
 åde. 
 
URL;VALUE=URI:https://www.cmb-chalmers.se/aktiviteter/destination-tynnered-
 nya-arbetssatt-for-socialt-hallbar-stadsutveckling/
SUMMARY:Destination Tynnered – nya arbetssätt för socialt hållbar stad
 sutveckling
DTSTART;TZID=W. Europe Standard Time:20211111T120000
END:VEVENT
END:VCALENDAR
